
BEGIN:VCALENDAR
VERSION:2.0
PRODID:-//38.242.136.229//NONSGML kigkonsult.se iCalcreator 2.20//
CALSCALE:GREGORIAN
METHOD:PUBLISH
X-WR-TIMEZONE:UTC
BEGIN:VEVENT
UID:event89@Haagse Motor Club
DTSTAMP:20260423T104537Z
CATEGORIES:HMC
DESCRIPTION:Ooievaarsrit 2026\nMotorgroep:: HMC\nLink: https://www.haagsemo
 torclub.nl/clubhuis/index.php?option=com_jem&view=event&id=89:ooievaarsrit
 -2026&Itemid=198\n
DTSTART:20260425T101500
DTEND:20260425T160000
SUMMARY:Ooievaarsrit 2026
URL:https://www.haagsemotorclub.nl/clubhuis/index.php?option=com_jem&view=e
 vent&id=89:ooievaarsrit-2026&Itemid=198
END:VEVENT
END:VCALENDAR
